BEGIN:VCALENDAR
VERSION:2.0
PRODID:-//Stadtgeschichte München//DE
CALSCALE:GREGORIAN
BEGIN:VEVENT
UID:3149@stadtgeschichte-muenchen.de
SUMMARY:Krippen, Porzellan &amp; Falkenjagd
DESCRIPTION:&lt;p&gt;Die Au wurde zwar im Zweiten Weltkrieg weitgehend zerst&amp;ouml;rt, dennoch kann das&amp;nbsp;Nationalmuseum mit vielen Exponaten die Vergangenheit der Au lebendig werden&amp;nbsp;lassen. So sind auf dem Seitz&#039;schen Stadtmodell von 1861 die Herbergsh&amp;auml;user in&amp;nbsp;der Vorstadt und die fr&amp;uuml;hen Bierkeller am Gasteig deutlich zu erkennen. Die&amp;nbsp;Kuppel der Carl-Borom&amp;auml;us-Kirche, Bilder des Auer Barockmalers Januarius Zick oder&amp;nbsp;die originalen Bustelli-Figuren der in der Au gegr&amp;uuml;ndeten Nymphenburger&amp;nbsp;Porzellanmanufaktur sind ebenso zu besichtigen wie die ber&amp;uuml;hmte Krippen-Sammlung,&amp;nbsp;deren Exponate zum Teil ebenfalls aus der Au stammen.&lt;/p&gt;
DTSTART:20121209T143000
DTEND:20121209T170000
LOCATION:Nationalmuseum (Kassenraum) â€¢ Prinzregentenstr. 3
ORGANIZER:MVHS München Mitte   
END:VEVENT
END:VCALENDAR