BEGIN:VCALENDAR
VERSION:2.0
PRODID:-//Stadtgeschichte München//DE
CALSCALE:GREGORIAN
BEGIN:VEVENT
UID:3155@stadtgeschichte-muenchen.de
SUMMARY:Die Schwanthalerhöhe - vom Ledigenheim zum In-Viertel
DESCRIPTION:&lt;p&gt;Die Schwanthalerh&amp;ouml;he entwickelte sich mit Beginn der Industrialisierung. Um 1850&amp;nbsp;siedelten sich nach und nach Fabriken und Brauereien an und es entstand ein&amp;nbsp;klassisches Handwerker- und Arbeiterviertel mit gr&amp;uuml;nderzeitlichen H&amp;auml;usern -&amp;nbsp;Wohnblock an Wohnblock - dicht gedr&amp;auml;ngt. Noch heute stammt fast die H&amp;auml;lfte des&amp;nbsp;Wohnungsbestandes aus der Zeit vor 1919. Die Wirtschaftsstruktur hat sich erst&amp;nbsp;jetzt durch die Verlagerung des Messezentrums stark ver&amp;auml;ndert und damit auch das&amp;nbsp;Erscheinungsbild des Stadtteils.&lt;/p&gt; &lt;p&gt;&amp;nbsp;&lt;/p&gt;
DTSTART:20121011T160000
DTEND:20121011T180000
LOCATION:Bildungslokal Schwanthalerhöhe â€¢ Ligsalzstr. 2
ORGANIZER:MVHS München Mitte   
END:VEVENT
END:VCALENDAR