BEGIN:VCALENDAR
VERSION:2.0
PRODID:-//Stadtgeschichte München//DE
CALSCALE:GREGORIAN
BEGIN:VEVENT
UID:3159@stadtgeschichte-muenchen.de
SUMMARY:Die Bayerische Staatsbibliothek Schatzkammer des Wissens
DESCRIPTION:&lt;p&gt;&amp;nbsp;&lt;/p&gt; &lt;div&gt;Mit &amp;uuml;ber 9,5 Millionen B&amp;uuml;chern, ungef&amp;auml;hr 55000 laufenden Zeitschriften und ca.&amp;nbsp;93000 Handschriften ist die Bayerische Staatsbibliothek eine der bedeutendsten&amp;nbsp;Quellensammlungen der Welt. 1558 gegr&amp;uuml;ndet als Hofbibliothek der Wittelsbacher,&amp;nbsp;ist sie heute die zentrale Landesbibliothek des Freistaates Bayern und eine der&amp;nbsp;bedeutendsten europ&amp;auml;ischen Universalbibliotheken. Sie genie&amp;szlig;t als internationale&amp;nbsp;Forschungsbibliothek Weltrang. Was verbirgt sich hinter den Mauern, wenn man die&amp;nbsp;Freitreppe mit den vier &amp;bdquo;Heiligen Drei K&amp;ouml;nigen&amp;quot; hinaufgeht? Werfen Sie einen&amp;nbsp;Blick hinter die Kulissen.&lt;/div&gt; &lt;p&gt;&amp;nbsp;&lt;/p&gt;
DTSTART:20121121T150000
DTEND:20121121T170000
LOCATION:Staatsbibliothek (Eingangshalle) Ludwigstr. 16
ORGANIZER:MVHS München Mitte   
END:VEVENT
END:VCALENDAR