BEGIN:VCALENDAR
VERSION:2.0
PRODID:-//Stadtgeschichte München//DE
CALSCALE:GREGORIAN
BEGIN:VEVENT
UID:3160@stadtgeschichte-muenchen.de
SUMMARY:Das Bayerische Landeskriminalamt
DESCRIPTION:&lt;p&gt;ist eine moderne Polizeizentrale, die alle bekannten Technologien zur&amp;nbsp;Information, Untersuchung, Ermittlung und Pr&amp;auml;vention einsetzt, diese erforscht&amp;nbsp;und weiterentwickelt. Nach einem kurzen Video &amp;uuml;ber die Aufgaben des&amp;nbsp;Landeskriminalamtes wird die Arbeit der Beh&amp;ouml;rde an konkreten Beispielen&amp;nbsp;erl&amp;auml;utert. Das LKA ben&amp;ouml;tigt vor der F&amp;uuml;hrung die Namen und Geburtsdaten der&amp;nbsp;Teilnehmer/innen.&lt;/p&gt;
DTSTART:20130124T100000
DTEND:20130124T130000
LOCATION:Maillingerstr. 15 (U1)
ORGANIZER:MVHS München Mitte   
END:VEVENT
END:VCALENDAR