BEGIN:VCALENDAR
VERSION:2.0
PRODID:-//Stadtgeschichte München//DE
CALSCALE:GREGORIAN
BEGIN:VEVENT
UID:3170@stadtgeschichte-muenchen.de
SUMMARY:BISS - der Name ist Programm
DESCRIPTION:&lt;p&gt;Als erste Stra&amp;szlig;enzeitschrift in Deutschland kam BISS (&amp;bdquo;B&amp;uuml;rger in sozialen Schwierigkeiten&amp;quot;) am 17. Oktober 1993 auf den Markt. Mit einer monatlich verkauften Auflage von &amp;uuml;ber 38000 Exemplaren ist sie eine der erfolgreichsten Stra&amp;szlig;enzeitungen Deutschlands. &amp;Uuml;ber 100 bed&amp;uuml;rftige Verk&amp;auml;ufer/innen, von denen derzeit &amp;uuml;ber 30 fest angestellt sind, bringen das Magazin an die Leser. Der Verkauf soll Hilfe zur Selbsthilfe leisten, Kontakte zu &amp;bdquo;normalen&amp;quot; B&amp;uuml;rgern herstellen und die R&amp;uuml;ckkehr aus Isolation, Armut und Ausgrenzung unterst&amp;uuml;tzen.&lt;/p&gt;
DTSTART:20130123T100000
DTEND:20130123T113000
LOCATION:BISS e.V. â€¢ Metzstr. 29
ORGANIZER:MVHS München Mitte   
END:VEVENT
END:VCALENDAR