BEGIN:VCALENDAR
VERSION:2.0
PRODID:-//Stadtgeschichte München//DE
CALSCALE:GREGORIAN
BEGIN:VEVENT
UID:3172@stadtgeschichte-muenchen.de
SUMMARY:Zu Gast beim Bayerischen Rundfunk
DESCRIPTION:&lt;p&gt;Der Bayerische Rundfunk l&amp;auml;dt zu einer F&amp;uuml;hrung ins Funkhaus ein. ZuBeginn erhalten&amp;nbsp;Sie Informationen zur Geschichte, Organisation und zu den Programmangeboten des&amp;nbsp;BR und der ARD. Sie besichtigen das News Center, die Musik- und H&amp;ouml;rspielstudios&amp;nbsp;und verschiedene Sendestudios. 365 Tage im Jahr sind unz&amp;auml;hlige Korrespondenten, &amp;nbsp;Radiojournalisten, Redakteure, Moderatoren, Techniker und Handwerker im Einsatz.&amp;nbsp;Wenn Sie einigen von ihnen &amp;uuml;ber die Schulter schauen wollen, haben Sie dazu&amp;nbsp;Gelegenheit.&lt;/p&gt;
DTSTART:20121023T093000
DTEND:20121023T110000
LOCATION:BR-Shop â€¢ Arnulfstr. 42/Ecke Hopfenstr. 
ORGANIZER:MVHS München Mitte   
END:VEVENT
END:VCALENDAR