BEGIN:VCALENDAR
VERSION:2.0
PRODID:-//Stadtgeschichte München//DE
CALSCALE:GREGORIAN
BEGIN:VEVENT
UID:3178@stadtgeschichte-muenchen.de
SUMMARY:1200 Jahre Feldmoching
DESCRIPTION:&lt;p&gt;Der Geburtstag von Feldmoching liegt nur augenscheinlich im Jahr 811, weil es aus&amp;nbsp;dieser Zeit zuf&amp;auml;llig eine Urkunde &amp;uuml;ber eine Schenkung an die Kirche gibt.&amp;nbsp;Tats&amp;auml;chlich ist Feldmoching nachweislich schon seit &amp;uuml;ber 3500 Jahren besiedelt.&amp;nbsp;Dies macht besonders die Vor-und Fr&amp;uuml;hgeschichte des Ortes interessant, aber auch&amp;nbsp;umfangreich. Ein Streifzug durch die Jahrhunderte schildert auf 60 ausgew&amp;auml;hlten&amp;nbsp;Tafeln die wechselvolle Geschichte dieses Ortes &amp;bdquo;auf dem Gfild&amp;quot; und im heutigen&amp;nbsp;24. Stadtbezirk von M&amp;uuml;nchen.&lt;/p&gt; &lt;p&gt;In Kooperation mit dem Kulturhistorischen Verein&amp;nbsp;Feldmoching auf dem Gfild e.V. und Stadtteilkultur 2411 e.V.&lt;/p&gt;
DTSTART:20120227T180000
DTEND:20120227T000000
LOCATION:Blodigstr. 4 - Foyer, 3. Stock 
ORGANIZER:MVHS München Mitte   
END:VEVENT
END:VCALENDAR