BEGIN:VCALENDAR
VERSION:2.0
PRODID:-//Stadtgeschichte München//DE
CALSCALE:GREGORIAN
BEGIN:VEVENT
UID:3179@stadtgeschichte-muenchen.de
SUMMARY:München kennen lernen:
DESCRIPTION:&lt;p&gt;Eine F&amp;uuml;hrung f&amp;uuml;r Teilnehmende von Deutschkursen der MVHS Das Neue Rathaus am&amp;nbsp;Marienplatz in M&amp;uuml;nchen ist Sitz des Oberb&amp;uuml;rgermeisters, des Stadtrates und&amp;nbsp;Hauptsitz der Stadtverwaltung. Ein Stadtrat des M&amp;uuml;nchner Nordens f&amp;uuml;hrt durch das&amp;nbsp;Rathaus und erl&amp;auml;utert, wie im Stadtrat gearbeitet wird und wie die Interessen der&amp;nbsp;B&amp;uuml;rgerrinnen und B&amp;uuml;rger, auch der B&amp;uuml;rger/innen mit Migrationshintergrund, in&amp;nbsp;Stadtratsbeschl&amp;uuml;sse Eingang finden.&lt;/p&gt; &lt;p&gt;Rundgang, Besuch einer Ausschusssitzung und&amp;nbsp;anschlie&amp;szlig;ende Diskussion&lt;/p&gt;
DTSTART:20121205T100000
DTEND:20121205T113000
LOCATION:Marienplatz, Rathauspförtner 
ORGANIZER:MVHS München Mitte   
END:VEVENT
END:VCALENDAR