BEGIN:VCALENDAR
VERSION:2.0
PRODID:-//Stadtgeschichte München//DE
CALSCALE:GREGORIAN
BEGIN:VEVENT
UID:3182@stadtgeschichte-muenchen.de
SUMMARY:München kennen lernen:
DESCRIPTION:&lt;p&gt;Eine F&amp;uuml;hrung f&amp;uuml;r B&amp;uuml;rgerinnen und B&amp;uuml;rger mit Migrationshintergrund aus dem&amp;nbsp;M&amp;uuml;nchner Norden&amp;nbsp;Das Neue Rathaus am Marienplatz in M&amp;uuml;nchen ist Sitz des Oberb&amp;uuml;rgermeisters, des&amp;nbsp;Stadtrates und Hauptsitz der Stadtverwaltung. Hier werden viele Fragen&amp;nbsp;entschieden, die auch f&amp;uuml;r Migrant(inn)en wichtig sind. Eine Stadtr&amp;auml;tin, die&amp;nbsp;selbst zugewandert ist, f&amp;uuml;hrt durch das Rathaus und erl&amp;auml;utert, wie dort&amp;nbsp;gearbeitet wird.&lt;/p&gt;
DTSTART:20121207T100000
DTEND:20121207T120000
LOCATION:Marienplatz, Fischbrunnen
ORGANIZER:MVHS München Mitte   
END:VEVENT
END:VCALENDAR