BEGIN:VCALENDAR
VERSION:2.0
PRODID:-//Stadtgeschichte München//DE
CALSCALE:GREGORIAN
BEGIN:VEVENT
UID:3186@stadtgeschichte-muenchen.de
SUMMARY:NS-Spurensuche im Münchner Norden 2
DESCRIPTION:&lt;p&gt;&amp;bdquo;Nationalsozialismus in M&amp;uuml;nchen&amp;quot; l&amp;auml;sst zuerst an repr&amp;auml;sentative Bauten wie das Haus der&amp;nbsp;Kunst und den F&amp;uuml;hrerbau denken. Dabei wird der M&amp;uuml;nchner Norden mit seinen ehemaligen SS-Kasernen und Gefangenenlagern, R&amp;uuml;stungsfabriken und Reichskleinsiedlungen leicht&amp;nbsp;&amp;uuml;bersehen. Fast alle diese Bauten &amp;uuml;berlebten das Dritte Reich. Diese Radtour vermittelt&amp;nbsp;anschaulich die Bedeutung des M&amp;uuml;nchner Nordens f&amp;uuml;r das Funktionieren des NS-Systems.&amp;nbsp;F&amp;uuml;r den Besuch des J&amp;uuml;dischen Friedhofs an der Garchinger Stra&amp;szlig;e ist f&amp;uuml;r M&amp;auml;nner und&amp;nbsp;verheiratete Frauen eine Kopfbedeckung erforderlich. Streckenl&amp;auml;nge ca. 15 Kilometer. Die&amp;nbsp;Veranstaltung findet bei jeder Witterung statt. Bitte wetterfeste Kleidung mitnehmen.&lt;/p&gt;
DTSTART:20121014T130000
DTEND:20121014T180000
LOCATION:reffpunkt: am Cafe â€žMünchner Freiheit
ORGANIZER:MVHS München Mitte   
END:VEVENT
END:VCALENDAR