BEGIN:VCALENDAR
VERSION:2.0
PRODID:-//Stadtgeschichte München//DE
CALSCALE:GREGORIAN
BEGIN:VEVENT
UID:3187@stadtgeschichte-muenchen.de
SUMMARY:NS-Spurensuche im Münchner Norden 3
DESCRIPTION:&lt;p&gt;In sieben Stationen durch den 24. Stadtbezirk wird auf dieser Radtour wider das Vergessen&amp;nbsp;&amp;uuml;ber die Geschehnisse und Verbrechen in der NS-Zeit und ihre Folgen aufgekl&amp;auml;rt.&lt;/p&gt; &lt;p&gt;In Kooperation mit dem Verein Gegen Vergessen - F&amp;uuml;r Demokratie e.V, Regionale&amp;nbsp;Arbeitsgruppe M&amp;uuml;nchen&lt;/p&gt; &lt;ol&gt; &lt;li&gt;Station: &amp;nbsp; DP-Lager Schlei&amp;szlig;heim - Fliegertechnische Schule Schlei&amp;szlig;heim: Ausbildung aller Kampfpiloten, Legion Condor&lt;/li&gt; &lt;li&gt;Station: &amp;nbsp; Flakstellung Am Hasenberg&lt;/li&gt; &lt;li&gt;Station: &amp;nbsp; S-Bahnhof - Futtermittelfabrik Dr. Zentz und die Verbindung zum KZ Dachau - Enteignung j&amp;uuml;discher Familien&lt;/li&gt; &lt;li&gt;Station: &amp;nbsp; KZ-Friedhof Feldmoching - Bau des Kalterbach -&amp;nbsp;Feldmochinger Hof und der Einsatz von KZ-H&amp;auml;ftlingen in der Landwirtschaft&lt;/li&gt; &lt;li&gt;Station: &amp;nbsp; KZ-H&amp;auml;ftlinge und Kriegsgefangene im Arbeitseinsatz&amp;nbsp;im Moos&lt;/li&gt; &lt;li&gt;Station: &amp;nbsp; Lager Ludwigsfeld (KZ-Aussenlager Allach) -&amp;nbsp;Organisation Todt - Frauenlager - Zigeunerlager&lt;/li&gt; &lt;li&gt;Station: &amp;nbsp; KZ-Friedhof Ludwigsfeld&lt;/li&gt; &lt;/ol&gt; &lt;p&gt;Die Veranstaltung findet bei jeder Witterung statt. Bitte wetterfeste Kleidung mitnehmen.&lt;/p&gt;
DTSTART:20121021T140000
DTEND:20121021T170000
LOCATION:U-Bahnhof Hasenbergl, vor dem Aufgang zum Kulturzentrum 2411 
ORGANIZER:MVHS München Mitte   
END:VEVENT
END:VCALENDAR