BEGIN:VCALENDAR
VERSION:2.0
PRODID:-//Stadtgeschichte München//DE
CALSCALE:GREGORIAN
BEGIN:VEVENT
UID:3188@stadtgeschichte-muenchen.de
SUMMARY:NS-Spurensuche in Schwabing
DESCRIPTION:&lt;p&gt;&amp;Uuml;berall in Schwabing lebten in den 1930er Jahren B&amp;uuml;rgerinnen und B&amp;uuml;rger,&#039; die aufgrund&amp;nbsp;der Rassegesetze der Nazis verfolgt wurden. Bei der F&amp;uuml;hrung werden Orte aufgesucht, an&amp;nbsp;denen wichtige j&amp;uuml;dische Einrichtungen ans&amp;auml;ssig waren.&lt;/p&gt;
DTSTART:20121010T163000
DTEND:20121010T180000
LOCATION:Antonienstr. 7
ORGANIZER:MVHS München Mitte   
END:VEVENT
END:VCALENDAR