BEGIN:VCALENDAR
VERSION:2.0
PRODID:-//Stadtgeschichte München//DE
CALSCALE:GREGORIAN
BEGIN:VEVENT
UID:3190@stadtgeschichte-muenchen.de
SUMMARY:Abwasserentsorgung in München
DESCRIPTION:&lt;p&gt;Die älteste Umweltschutzeinrichtung jeder Stadt ist die Abwasserentsorgung. Seit über 150&amp;nbsp;Jahren werden unter den Straßen der Stadt Kanäle gebaut und unterhalten. In ihnen fließt&amp;nbsp;das Schmutzwasser aus Haushalten und Betrieben zu den Klärwerken. Mit Regenwasser&amp;nbsp;vermischt, wird das Abwasser besonders nach Gewitterregen in großen unterirdischen&amp;nbsp;Rückhaltebecken zwischengespeichert. 9.00 Uhr: &amp;nbsp; &amp;nbsp;Informationsvortrag über das Kanalnetz&amp;nbsp;10.00 Uhr: Besichtigung zweier ca. 100 Jahre alter Hauptkanäle (Akademiestraße und&amp;nbsp;Ungererstraße) und einer Regenrückhalteanlage (Schenkendorfstraße)&lt;/p&gt; &lt;p&gt;Die Exkursion erfolgt mit der U-Bahn. Ab U-Bahnhof „Alte Heide&quot; müssen noch ca. 10 bis 15&amp;nbsp;Minuten Fußweg bewältigt werden.&lt;/p&gt; 
DTSTART:20121116T090000
DTEND:20121116T130000
LOCATION:Volkshochschule   â€¢ Troppauer Str. 10 
ORGANIZER:MVHS München Nord
END:VEVENT
END:VCALENDAR