BEGIN:VCALENDAR
VERSION:2.0
PRODID:-//Stadtgeschichte München//DE
CALSCALE:GREGORIAN
BEGIN:VEVENT
UID:3192@stadtgeschichte-muenchen.de
SUMMARY:Von der Bayern-Kaserne zum Wohnviertel
DESCRIPTION:&lt;p&gt;Bei der F&amp;uuml;hrung wird vorgestellt, wie das Gel&amp;auml;nde der ehemaligen Bayern-Kaserne in&amp;nbsp;Freimann in den n&amp;auml;chsten Jahren entwickelt werden soll. Auf dem 48 Hektar gro&amp;szlig;en Areal an&amp;nbsp;der Heidemannstra&amp;szlig;e, das zurzeit u.a. als Fl&amp;uuml;chtlingsunterkunft genutzt wird, soll ein&amp;nbsp;neuer Stadtteil mit 3000 Wohnungen entstehen. Zum ersten Mal wurden bei einem derartigen&amp;nbsp;St&amp;auml;dtebauprojekt die B&amp;uuml;rger/innen bereits vor dem Architektenwettbewerb in die Planungen&amp;nbsp;eingebunden und konnten Ideen und W&amp;uuml;nsche &amp;auml;u&amp;szlig;ern.&lt;/p&gt;
DTSTART:20121117T110000
DTEND:20121117T130000
LOCATION:Eingang Bayern-Kaserne
ORGANIZER:MVHS München Mitte   
END:VEVENT
END:VCALENDAR