BEGIN:VCALENDAR
VERSION:2.0
PRODID:-//Stadtgeschichte München//DE
CALSCALE:GREGORIAN
BEGIN:VEVENT
UID:3195@stadtgeschichte-muenchen.de
SUMMARY:„Portal Zukunft&quot; im BMW Forschungs- und Innovationszentrum
DESCRIPTION:&lt;p&gt;Die Entwicklung und Entstehung des Produkts Auto kann man eindrucksvoll bei einem&amp;nbsp;Rundgang im BMW Forschungs- und Innovationszentrum (FIZ) erleben, das im M&amp;uuml;nchner Norden&amp;nbsp;hochqualifizierte Arbeitspl&amp;auml;tze f&amp;uuml;r 7000 Mitarbeiter/innen bietet. Forschung und&amp;nbsp;Entwicklungen f&amp;uuml;r neue Antriebstechniken, Leichtbau, Rapid-Techniken und zu Aspekten der&amp;nbsp;aktiven und passiven Sicherheit werden erl&amp;auml;utert und verschiedene Labors besichtigt. Die&amp;nbsp;Arbeit in vernetzten Strukturen wird dabei deutlich gemacht.&lt;/p&gt;
DTSTART:20130121T130000
DTEND:20130121T150000
LOCATION:Eingangshalle, Haupteingang, Knorrstr. 147
ORGANIZER:MVHS München Mitte   
END:VEVENT
END:VCALENDAR