BEGIN:VCALENDAR
VERSION:2.0
PRODID:-//Stadtgeschichte München//DE
CALSCALE:GREGORIAN
BEGIN:VEVENT
UID:3197@stadtgeschichte-muenchen.de
SUMMARY:Knorr-Bremse
DESCRIPTION:&lt;p&gt;Der Knorr-Bremse-Konzern, der seit mehr als 60 Jahren seinen Sitz im M&amp;uuml;nchner Norden hat,&amp;nbsp;ist weltweit der f&amp;uuml;hrende Hersteller von Bremssystemen f&amp;uuml;r Schienen- und Nutzfahrzeuge.&amp;nbsp;Mit &amp;uuml;ber 12700 Mitarbeitern an &amp;uuml;ber 60 Standorten in 25 L&amp;auml;ndern, davon 1500 in M&amp;uuml;nchen,&amp;nbsp;treibt das Unternehmen als technologischer Schrittmacher seit &amp;uuml;ber hundert Jahren&amp;nbsp;ma&amp;szlig;geblich Entwicklung, Produktion und den Vertrieb modernster Bremssysteme voran. Die&amp;nbsp;Betriebsbesichtigung vermittelt einen &amp;Uuml;berblick &amp;uuml;ber die Unternehmensziele, das&amp;nbsp;Produktportfolio sowie die Produktion.&lt;/p&gt;
DTSTART:20130206T133000
DTEND:20130206T160000
LOCATION:Knorr-Bremse, Pforte West, Am   Oberwiesenfeld 
ORGANIZER:MVHS München Mitte   
END:VEVENT
END:VCALENDAR