BEGIN:VCALENDAR
VERSION:2.0
PRODID:-//Stadtgeschichte München//DE
CALSCALE:GREGORIAN
BEGIN:VEVENT
UID:3198@stadtgeschichte-muenchen.de
SUMMARY:Der Rangierbahnhof München Nord - High-Tech mit Biotop
DESCRIPTION:&lt;p&gt;120 Kilometer Gleise und &amp;uuml;ber 350 Weichen wurden auf dem kilometerlangen Areal des&amp;nbsp;Rangierbahnhofs M&amp;uuml;nchen Nord verbaut. Mit dem gr&amp;ouml;&amp;szlig;ten elektronischen Stellwerk Europas&amp;nbsp;und einem rechnergesteuerten Betriebsf&amp;uuml;hrungssystem ist der 1991 in Betrieb genommene&amp;nbsp;Rangierbahnhof weltweit einzigartigl. Ein F&amp;uuml;nftel der Baukosten wurde f&amp;uuml;r Umweltschutz&amp;nbsp;und Landschaftspflege ausgegeben, um einen Ausgleich f&amp;uuml;r den gewaltigen st&amp;auml;dtebaulichen&amp;nbsp;Einschnitt zu schaffen. Die F&amp;uuml;hrung zeigt den Ablauf auf dem Gel&amp;auml;nde und gibt einen&amp;nbsp;Einblick in die Betriebssteuerzentrale, in den Disponenten- und Fahrdienstleiterbereich.&lt;/p&gt;
DTSTART:20121113T150000
DTEND:20121113T173000
LOCATION:Deutsche Bahn AG, Gebäude EO, Ludwigsfelder Str. 95
ORGANIZER:MVHS München Mitte   
END:VEVENT
END:VCALENDAR