BEGIN:VCALENDAR
VERSION:2.0
PRODID:-//Stadtgeschichte München//DE
CALSCALE:GREGORIAN
BEGIN:VEVENT
UID:3202@stadtgeschichte-muenchen.de
SUMMARY:Bäckerei Wimmer
DESCRIPTION:&lt;p&gt;F&amp;uuml;r die Wirtschaftsstruktur des M&amp;uuml;nchner Nordens sind - neben den Gro&amp;szlig;betrieben - die&amp;nbsp;mittelst&amp;auml;ndischen Betriebe kennzeichnend. Seit 1932 versorgt die B&amp;auml;ckerei Wimmer den&amp;nbsp;M&amp;uuml;nchner Norden mit vielerlei Backwaren. Die &amp;ouml;kologisch ausgerichtete Produktpalette&amp;nbsp;reicht von Brot und Semmeln &amp;uuml;ber Kuchen und Torten bis hin zum Imbiss. Wie sieht der Weg&amp;nbsp;von den einzelnen Rohstoffen bis zum fertigen Produkt aus, von der Backstube in die 35&amp;nbsp;Filialbetriebe und ca. 100 Auslieferstellen? Bei dieser F&amp;uuml;hrung lernen Sie den mit&amp;nbsp;modernsten technischen Anlagen ausgestatteten Familienbetrieb kennen. Bitte beachten Sie,&amp;nbsp;dass bei der F&amp;uuml;hrung aus hygienischen Gr&amp;uuml;nden kein Schmuck, Ringe, Uhren etc. und keine&amp;nbsp;Sandalen erlaubt sind.&lt;/p&gt;
DTSTART:20130123T100000
DTEND:20130123T120000
LOCATION:Bäckerei Wimmer, Vorraum, Helene-Wessel-Bogen 6 
ORGANIZER:MVHS München Mitte   
END:VEVENT
END:VCALENDAR