BEGIN:VCALENDAR
VERSION:2.0
PRODID:-//Stadtgeschichte München//DE
CALSCALE:GREGORIAN
BEGIN:VEVENT
UID:3204@stadtgeschichte-muenchen.de
SUMMARY:Biolandhof Braun
DESCRIPTION:&lt;p&gt;Der Familienbetrieb mit Ackerbau und Milchviehhaltung wirtschaftet seit 1988 nach den&amp;nbsp;organisch-biologischen Richtlinien von Bioland und bearbeitet 55 ha Gr&amp;uuml;nland und&amp;nbsp;Ackerland in Partnerschaft mit der Natur. In der hofeigenen K&amp;auml;serei wird die Milch der 22&amp;nbsp;Milchk&amp;uuml;he zu einem vielf&amp;auml;ltigen K&amp;auml;sesortiment verarbeitet. Vermarktet werden die Produkte&amp;nbsp;im eigenen Hofladen und in der n&amp;auml;heren Region. Der Bauer Josef Braun ist &amp;uuml;berzeugter&amp;nbsp;Biobauer und antwortet gerne auf Fragen.&lt;/p&gt; &lt;p&gt;Kinder nur in Begleitung eines&amp;nbsp;Erwachsenen&lt;/p&gt;
DTSTART:20121013T140000
DTEND:20121013T160000
LOCATION:Biolandhof Braun, Dürneck 23, 85354 Freising
ORGANIZER:MVHS München Mitte   
END:VEVENT
END:VCALENDAR