BEGIN:VCALENDAR
VERSION:2.0
PRODID:-//Stadtgeschichte München//DE
CALSCALE:GREGORIAN
BEGIN:VEVENT
UID:3233@stadtgeschichte-muenchen.de
SUMMARY:Klinikum Schwabing:
DESCRIPTION:&lt;p&gt;Patienten und Interessierte k&amp;ouml;nnen sich bei dieser F&amp;uuml;hrung &amp;uuml;ber das Thema Zuckerkrankheit informieren und an einer Diabetesfr&amp;uuml;herkennung teilnehmen.&lt;/p&gt; &lt;p&gt;Bereits in der Fr&amp;uuml;hphase der Erkrankung k&amp;ouml;nnen Komplikationen wie Durchblutungsst&amp;ouml;rungen, Nierensch&amp;auml;den oder Nervensch&amp;auml;den auftreten. Wissenschaftliche Studien zeigen, dass Diabetestherapie dann am wirksamsten Folgesch&amp;auml;den vorbeugt, wenn fr&amp;uuml;h behandelt und die spezielle Situation jedes einzelnen Patienten ber&amp;uuml;cksichtigt wird. Die Klinik f&amp;uuml;r Endokrinologie und Diabetologie im Klinikum Schwabing hat bei der Behandlung von Personen mit Diabetes mellitus eine langj&amp;auml;hrige Erfahrung und Tradition.&lt;/p&gt;
DTSTART:20121121T150000
DTEND:20121121T163000
LOCATION:Eingangshalle, Kölner Platz 1
ORGANIZER:MVHS München Mitte   
END:VEVENT
END:VCALENDAR