BEGIN:VCALENDAR
VERSION:2.0
PRODID:-//Stadtgeschichte München//DE
CALSCALE:GREGORIAN
BEGIN:VEVENT
UID:3234@stadtgeschichte-muenchen.de
SUMMARY:Die Bedeutung des Fastens im Islam
DESCRIPTION:&lt;p&gt;&amp;nbsp;&lt;/p&gt; &lt;div&gt;Besuch der Moschee und gemeinsames Gespr&amp;auml;ch im M&amp;uuml;nchner Integrations- und Bildungsverein&lt;/div&gt; &lt;p&gt;Ziel des M&amp;uuml;nchner Integrations- und Bildungsvereins e.V. ist die F&amp;ouml;rderung der Sprach- und Schulbildung sowie die gesellschaftliche Integration und Identit&amp;auml;tsentwicklung von Jugendlichen. Es untersteht dem Dachverband der Islamischen Kulturzentren e.V., die im sozialen und kulturellen Bereich t&amp;auml;tig sind und als Ansprechpartner f&amp;uuml;r die religi&amp;ouml;sen Bed&amp;uuml;rfnisse in Deutschland lebender Muslime fungieren. Dazu geh&amp;ouml;rt auch der interreligi&amp;ouml;se Dialog und interkulturelle Austausch. So steht das Haus, in das auch ein Sch&amp;uuml;lerwohnheim f&amp;uuml;r Jungen integriert ist, jedem offen. Der Gemeindevorsteher, Imam und Leiter der Einrichtung, wird die Besucher/innen in die Moschee f&amp;uuml;hren und von seiner Arbeit erz&amp;auml;hlen. Danach stellt er sich beim Tee den Fragen rund um den islamischen Fastenmonat Ramadan und das Fastenbrechen (Zuckerfest). Die Fasten-Erfahrungen der Teilnehmenden k&amp;ouml;nnen im Gegenzug zum interkulturellen Dialog beitragen.&lt;/p&gt; &lt;p&gt;&amp;nbsp;&lt;/p&gt;
DTSTART:20121112T180000
DTEND:20121112T200000
LOCATION:Isar-Bildungszentrum/Schülerheim, Verband der Islamischen Kulturzentren e.V. 
ORGANIZER:MVHS München Mitte   
END:VEVENT
END:VCALENDAR