BEGIN:VCALENDAR
VERSION:2.0
PRODID:-//Stadtgeschichte München//DE
CALSCALE:GREGORIAN
BEGIN:VEVENT
UID:3247@stadtgeschichte-muenchen.de
SUMMARY:Rund um den Ostbahnhof - „ROST&quot;
DESCRIPTION:&lt;div&gt;Gleichzeitig mit der Erbauung des Ostbahnhofs lie&amp;szlig;en sich auf dem heute zu Berg am Laim geh&amp;ouml;renden Gebiet - entlang der Friedenstra&amp;szlig;e und den Bahngleisen - namhafte M&amp;uuml;nchner Firmen nieder, darunter Kustermann, Pfanni, Kathreiner&#039;s Erben und die Branntweinfabrik Macholl. Heute dominieren hier die Verwaltungsgeb&amp;auml;ude des Technischen Rathauses sowie die Ten Towers der Telekom. Mit dem Projekt &amp;bdquo;ROST&amp;quot; (Rund um den Ostbahnhof) wurde im Jahr 2001 eine st&amp;auml;dtebauliche Neugestaltung des gesamten Areals - von der Kultfabrik &amp;uuml;ber den Piusplatz bis zum &amp;bdquo;Technischen Rathaus&amp;quot; - eingeleitet. Im Oktober 2011 hat der Stadtrat die &amp;Uuml;berplanung des Gebiets beschlossen: In Berg am Laim soll ein attraktives neues Stadtquartier nach dem Leitbild &amp;bdquo;kompakt, urban, gr&amp;uuml;n&amp;quot; entstehen. Wohnungen f&amp;uuml;r 2000 Menschen und 10000 Arbeitspl&amp;auml;tze, beides in umweit- und sozialvertr&amp;auml;glicher Mischung, gro&amp;szlig;z&amp;uuml;gig begr&amp;uuml;nt, autoverkehrsarm und energieeffizient gebaut.&lt;/div&gt;
DTSTART:20121028T140000
DTEND:20121028T163000
LOCATION:Ostbahnhof, Ausgang Friedenstr. (oben)
ORGANIZER:MVHS München Mitte   
END:VEVENT
END:VCALENDAR