BEGIN:VCALENDAR
VERSION:2.0
PRODID:-//Stadtgeschichte München//DE
CALSCALE:GREGORIAN
BEGIN:VEVENT
UID:3249@stadtgeschichte-muenchen.de
SUMMARY:Das alte Perlach
DESCRIPTION:&lt;p&gt;Das ehemalige eigenst&amp;auml;ndige Bauerndorf Perlach ist &amp;auml;lter als die Landeshauptstadt und heute ein belebter Stadtteil M&amp;uuml;nchens. An vielen H&amp;auml;usern und an teils versteckten Stellen kann man noch Daten und Hinweise auf das damalige Leben entdecken. Mit alten Fotos und Archivmaterial erg&amp;auml;nzt, entsteht eine spannende Reise in die Vergangenheit. Es gibt auf dem Rundgang viele &amp;bdquo;Gschichterl&amp;quot; zu erz&amp;auml;hlen: vom Leben der Bauern, dem geheimnisvollen Hachinger Bach, von den &amp;Uuml;berrheinern, den G&amp;auml;rtnereien, der Limonadenfabrik, der Branntweinbrennerei oder der &amp;auml;ltesten protestantischen Gemeinde im M&amp;uuml;nchner Osten. Wer in Perlach wohnt oder hier soeben zugezogen ist, wird k&amp;uuml;nftig mit einem ganz anderen Blick auf seinen Stadtteil unterwegs sein.&lt;/p&gt;
DTSTART:20121111T110000
DTEND:20121111T130000
LOCATION:Dorfbrunnen am Pfanzeltplatz
ORGANIZER:MVHS München Mitte   
END:VEVENT
END:VCALENDAR