BEGIN:VCALENDAR
VERSION:2.0
PRODID:-//Stadtgeschichte München//DE
CALSCALE:GREGORIAN
BEGIN:VEVENT
UID:3251@stadtgeschichte-muenchen.de
SUMMARY:Zu Besuch im Kartoffel- und Pfannimuseum hinterm Ostbahnhof
DESCRIPTION:&lt;p&gt;Das 1996 er&amp;ouml;ffnete Kartoffelmuseum der Stiftung Otto Eckart zeigt eine Ausstellung von Exponaten, Bildern und Kuriosit&amp;auml;ten rund um das Thema Kartoffel. 2006 kam das Pfannimuseum dazu, welches die Geschichte des Markenartikels Pfanni von 1949 bis 1999 und den Weg der Kartoffel in die Fertigpackung veranschaulicht. Die Leiterin des Museums f&amp;uuml;hrt durch die thematisch gegliederten R&amp;auml;ume: u.a. vom &amp;bdquo;Inka-Gold&amp;quot; zum Volksnahrungsmittel - Anbau und Ernte -Marktszenen - Rarit&amp;auml;tensammlung - bis zur Galerie der Moderne. Zu sehen ist au&amp;szlig;erdem eine aktuelle Vitrinen-Ausstellung &amp;uuml;ber den Preu&amp;szlig;enk&amp;ouml;nig Friedrich II. Was dieser mit Bayern und der Kartoffel zu tun hat, werden Sie bei der Veranstaltung erfahren.&lt;/p&gt;
DTSTART:20121117T110000
DTEND:20121117T123000
LOCATION: Im Otec-Haus, Pforte â€¢ Grafinger Str. 2 (U-/S-Bahn Ostbahnhof, Ausgang Friedenstr.)
ORGANIZER:MVHS München Mitte   
END:VEVENT
END:VCALENDAR