BEGIN:VCALENDAR
VERSION:2.0
PRODID:-//Stadtgeschichte München//DE
CALSCALE:GREGORIAN
BEGIN:VEVENT
UID:3255@stadtgeschichte-muenchen.de
SUMMARY:Phorms Campus München: local schools
DESCRIPTION:&lt;p&gt;Der international gepr&amp;auml;gte und als Ganztageseinrichtung betriebene Phorms Campus M&amp;uuml;nchen - ganz in der N&amp;auml;he von St. Georg in Bogenhausen - umfasst einen Kindergarten, Grundschule und Gymnasium f&amp;uuml;r etwa 500 Kinder. Sie werden von internationalen P&amp;auml;dagog(inn)en nach deutschen und internationalen Bildungsstandards betreut und unterrichtet. Nach dem sogenannten Tangram-Prinzip hei&amp;szlig;t Phorms-Bildung und -Erziehung u.a.: zweisprachig lernen, differenziertes Lernen, individuelle F&amp;ouml;rderung der Kinder, ganzt&amp;auml;gige und interkulturelle Gemeinschaft (Bildungsort statt Lehranstalt). Es gibt einkommensabh&amp;auml;ngige Elternbeitr&amp;auml;ge. Nur die Schulbekleidung ist einheitlich und kommt dem Lern- und Sozialklima innerhalb der Gemeinschaft zu Gute. Der Schulleiter f&amp;uuml;hrt &amp;uuml;ber das auch historisch interessante Gel&amp;auml;nde und erl&amp;auml;utert das Schulkonzept.&lt;/p&gt;
DTSTART:20121023T180000
DTEND:20121023T193000
LOCATION:Phorms Campus München â€¢ Maria-Theresia-Str. 35 (Eingang über die Neuberghauser Str./Bogenhauser Kirchplatz 
ORGANIZER:MVHS München Mitte   
END:VEVENT
END:VCALENDAR