BEGIN:VCALENDAR
VERSION:2.0
PRODID:-//Stadtgeschichte München//DE
CALSCALE:GREGORIAN
BEGIN:VEVENT
UID:3260@stadtgeschichte-muenchen.de
SUMMARY:Kreuz und quer durch Untergiesing zum Bierlaboratorium
DESCRIPTION:&lt;p&gt;Geduckt unter dem Oberen Giesing mit Hl. Kreuzkirche und Gr&amp;uuml;n-walder Stadion liegt das von der Isar geformte Untergiesing, ein ehemals typisches Arbeiter- und Gewerbeviertel, von dem noch der Auer M&amp;uuml;hlbach und einige Herbergen Zeugnis geben k&amp;ouml;nnen. Als neuen Kern von Untergiesing k&amp;ouml;nnte man den neu gestalteten Hans-Mie-lich-Platz sehen. In der Birkenleiten wird alter Charme bewahrt und Modernes integriert. Beispiel daf&amp;uuml;r ist das 2006 er&amp;ouml;ffnete Bierlaboratorium, das jetzt als Giesinger Br&amp;auml;u immer bekannter wird. Von ihrer Geschichte und der Kunst des Brauens werden die &amp;bdquo;Biermacher&amp;quot; erz&amp;auml;hlen. Ein Glas Bier zum Probieren ist gratis.&lt;/p&gt;
DTSTART:20121011T160000
DTEND:20121011T180000
LOCATION:U-Bahnhaltestelle Candidplatz, oben unter der Brücke des Mittleren Rings, Ecke Pilgersheimer Str.
ORGANIZER:MVHS München Mitte   
END:VEVENT
END:VCALENDAR