BEGIN:VCALENDAR
VERSION:2.0
PRODID:-//Stadtgeschichte München//DE
CALSCALE:GREGORIAN
BEGIN:VEVENT
UID:3263@stadtgeschichte-muenchen.de
SUMMARY:„Essen auf Rädern&quot; - Wie geht das?
DESCRIPTION:&lt;p&gt;Die Idee f&amp;uuml;r Essen auf R&amp;auml;dern ist in den 1940er Jahren in Gro&amp;szlig;britannien entstanden und in den 1960er Jahren nach Deutschland gekommen. Heute werden die &amp;bdquo;rollenden&amp;quot; Mahlzeiten -frisch gekocht oder als Fertigmen&amp;uuml; - von vielen Anbietern, wie sozialen Einrichtungen, Wohlfahrtsverb&amp;auml;nden, Hilfsorganisationen und Privatunternehmen, serviert. Einer von ihnen ist die M&amp;uuml;nchenstift GmbH, deren Men&amp;uuml;service 1998/99 gegr&amp;uuml;ndet wurde. Das in f&amp;uuml;nf K&amp;uuml;chen t&amp;auml;glich frisch zubereitete Essen (Drei-G&amp;auml;nge-Men&amp;uuml;, Kuchen oder auch Abendessen), wird durch eigene oder vom M&amp;uuml;nchenstift beauftragte Fahrer an &amp;auml;ltere oder hilfsbed&amp;uuml;rftige M&amp;uuml;nchner B&amp;uuml;rgerinnen und B&amp;uuml;rger ausgefahren.&lt;/p&gt; &lt;p&gt;Der Vortrag des Abteilungsleiters und ein Blick in die K&amp;uuml;che, in der gerade portioniert wird, vermitteln einen Eindruck davon, was getan werden muss, damit ein Men&amp;uuml;service mit 145000 Essen im Jahr an 365 Tagen funktioniert.&lt;/p&gt; &lt;p&gt;Hinweis: Vor der Veranstaltung besteht die M&amp;ouml;glichkeit, in der M&amp;uuml;nchenstift-Cafeteria zum Mittagessen zu gehen.&lt;/p&gt;
DTSTART:20121025T130000
DTEND:20121025T143000
LOCATION:Münchenstift im Haus St. Martin an der Infothek â€¢ St.-Martin-Str. 34 
ORGANIZER:MVHS München Mitte   
END:VEVENT
END:VCALENDAR