BEGIN:VCALENDAR
VERSION:2.0
PRODID:-//Stadtgeschichte München//DE
CALSCALE:GREGORIAN
BEGIN:VEVENT
UID:3279@stadtgeschichte-muenchen.de
SUMMARY:Wagnis eG und andere alternative Wohnformen in der Messestadt Riem
DESCRIPTION:&lt;p&gt;Viele suchen nach Alternativen zum privatwirtschaftlichen Wohnungsmarkt, indem sie Mitglied einer Wohnbaugenossenschaft werden. Aber es gibt nicht nur finanzielle, sondern auch soziale Motive f&amp;uuml;r diesen Entschluss. Wagnis eG, FrauenWohnen eG und Wogeno eG sind Beispiele genossenschaftlich organisierter Wohnprojekte in der Messestadt Riem. Mitbewohnerinnen von Wagnis eG erz&amp;auml;hlen ihre Geschichte: von der Gr&amp;uuml;ndung &amp;uuml;ber den Einzug bis heute und davon, ob und wie die unterschiedlichen Vorstellungen von alternativen Wohnformen (energieeffiziente Architektur, Gemeinschaftsfl&amp;auml;chen, Selbstverwaltung, stadtteilbezogene Einrichtungen) verwirklicht wurden. Erg&amp;auml;nzend wird auch &amp;uuml;ber die benachbarten Wohngenossenschaften informiert. In unmittelbarer Nachbarschaft gibt es au&amp;szlig;erdem das alternative Wohnprojekt der GEWOFAG &amp;bdquo;Wohnen im Viertel&amp;quot;, eine Form des betreuten Wohnens in den eigenen vier W&amp;auml;nden.&lt;/p&gt;
DTSTART:20121012T140000
DTEND:20121012T160000
LOCATION:Heinrich-Böll-Str. 75, im Innenhof, vor dem Restaurant Riemini 
ORGANIZER:MVHS München Mitte   
END:VEVENT
END:VCALENDAR