BEGIN:VCALENDAR
VERSION:2.0
PRODID:-//Stadtgeschichte München//DE
CALSCALE:GREGORIAN
BEGIN:VEVENT
UID:3281@stadtgeschichte-muenchen.de
SUMMARY:Geiselgasteig
DESCRIPTION:&lt;p&gt;In diesem ortsgeschichtlichen Spaziergang geht es um die Erschlie&amp;szlig;ung Geiselgasteigs, dessen Entwicklung neben dem Bauerndorf Gr&amp;uuml;nwald bis in die heutige Zeit. Der Weg f&amp;uuml;hrt zu alten Villen, neuen H&amp;auml;usern und bekannten Bewohnern. Unter Einbeziehung der Tramlinie 25.&lt;/p&gt;
DTSTART:20121020T140000
DTEND:20121020T170000
LOCATION:Haltestelle Robert-Koch-Str. (Tram 25, Grünwald) 
ORGANIZER:MVHS München Mitte   
END:VEVENT
END:VCALENDAR