BEGIN:VCALENDAR
VERSION:2.0
PRODID:-//Stadtgeschichte München//DE
CALSCALE:GREGORIAN
BEGIN:VEVENT
UID:3287@stadtgeschichte-muenchen.de
SUMMARY:UNBERECHTIGTEN ZUTRITT VERBOTEN
DESCRIPTION:&lt;p&gt;Sowohl das Museum als auch die Parkanlage mit ihren Geb&amp;auml;uden auf dem Gel&amp;auml;nde des Isar-Amper-Klinikums M&amp;uuml;nchen Ost bieten eine Zeitreise in die Vergangenheit und Entwicklung der Psychiatrie. Beim Eintritt in das Museum treffen die Besucher auf eine, &amp;uuml;ber Jahrzehnte von der Gesellschaft abgetrennte, Welt. Tagesabl&amp;auml;ufe der Patienten und Methoden der sich wandelnden Krankenbehandlung werden anschaulich vermittelt. Zu sehen sind u.a. ein rekonstruierter Wohnraum aus der Gr&amp;uuml;nderzeit, ein Schlafsaal mit originaler M&amp;ouml;blierung, Teile einer Isolierzelle, Akten, medizinische Ger&amp;auml;te und Dokumente, die ein anschauliches Bild des Alltags einer psychiatrischen Klinik von damals, &amp;uuml;ber die dunkle Zeit des Nationalsozialismus, bis heute vermitteln. Prominente Patienten der Klinik waren Oskar Maria Graf, Friedrich Wilhelm Wagner und Eugen Gabritschevsky.&lt;/p&gt;
DTSTART:20121109T140000
DTEND:20121109T160000
LOCATION:vor der Verwaltung, Haupteingang Haar l
ORGANIZER:MVHS München Mitte   
END:VEVENT
END:VCALENDAR