BEGIN:VCALENDAR
VERSION:2.0
PRODID:-//Stadtgeschichte München//DE
CALSCALE:GREGORIAN
BEGIN:VEVENT
UID:3357@stadtgeschichte-muenchen.de
SUMMARY:Blumenschmuck in München - was steckt dahinter?
DESCRIPTION:&lt;div&gt;Blumenschmuck ist die Visitenkarte der Stâ€°dte und Gemeinden und trägt zur Lebensqualität ihrer Bürgerinnen und Bürger bei. Das Baureferat Gartenbau der Landeshauptstadt München setzt daher groï¬‚es Engagement in die stâ€°dtischen Schmuckpflanzungen. Sâ€°mtliche Pflanzen für den Münchner Blumenschmuck werden in den städtischen Kulturgärtnereien herangezogen. Schon im Januar laufen die Vorbereitungen für die FrÂ¸hjahrs- und Sommerbepflanzungen auf Hochtouren. Diese Führung zeigt, was Jahr für Jahr getan werden muss, bevor in München vom Frühjahr bis in den Herbst hinein alles grünt und blüht.&lt;/div&gt;
DTSTART:20130124T140000
DTEND:20130124T153000
LOCATION:Eingang, Sachsenstr. 9 (Nähe Schyrenbad)
ORGANIZER:MVHS München Mitte   
END:VEVENT
END:VCALENDAR