BEGIN:VCALENDAR
VERSION:2.0
PRODID:-//Stadtgeschichte München//DE
CALSCALE:GREGORIAN
BEGIN:VEVENT
UID:3394@stadtgeschichte-muenchen.de
SUMMARY:2 Männer &amp; 1 Kasperl, oder: Von der Sahara in die Blumenstraße
DESCRIPTION:&lt;p&gt; Anläßlich des 190. Geburtstages und 100. Todestages von &quot;Papa Schmid&quot; begibt sich der Spaziergang auf die Spuren des Begründers des Münchner Marionettentheaters Joseph Leonhard Schmid und zeigt die Entwicklung des Dultkasperls auf, von einer Sonderattraktion der Münchner &quot;Sahara&quot; bis zur literarisierten Form aus der Feder Franz Graf Poccis in Gestalt des Kasperls Larifari. Natürlich gibt sich Herr Larifari persönlich die Ehre und seinen allerersten Prolog zum Besten, mit dem das Marionettentheater am 5. Dezember 1858 eröffnet wurde. Im Anschluss der Führung ist der Besuch der Ausstellung &quot;Das wäre ja gelacht! Ein Marionettentheater entsteht&quot; möglich, welche noch bis 23. November im Foyer der Kreissparkasse am Sendlinger-Tor-Platz zu sehen ist.&lt;/p&gt;
DTSTART:20121122T160000
DTEND:20121122T173000
LOCATION:Max-Joseph-Platz, Denkmal
ORGANIZER:Münchner Schatzsuche
END:VEVENT
END:VCALENDAR