BEGIN:VCALENDAR
VERSION:2.0
PRODID:-//Stadtgeschichte München//DE
CALSCALE:GREGORIAN
BEGIN:VEVENT
UID:3395@stadtgeschichte-muenchen.de
SUMMARY:Große Auftritte in Bronze: Die Denkmäler Max von Widnmanns
DESCRIPTION:&lt;p&gt; Das meistbesuchte Denkmal Münchens ist ein &quot;echter Widnmann&quot;. Das verwundert angesichts des fast in Vergessenheit geratenen Bildhauers, dessen Geburtstag sich am 16. Oktober 2012 zum 200. Mal jährte. Seine Kunstwerke aus Erz und Stein verwandeln den Münchner Straßenrand zur Bühne für mythologische Prominenz, einen reitenden König, einen sinnierenden Dichterfürsten, einen musikalischen Superstar des 16. Jahrhunderts, einen grübelnden Historiker und eine über allem schwebende Siegesgöttin. Warum es den gebürtigen Eichstätter nach München verschlagen hat, wie er zu den pompösen Denkmalaufträgen kam und was die Zeitgenossen von einem echten &quot;Widnmann&quot; hielten, erfahren Sie bei dieser Schatzsuche.&lt;/p&gt;
DTSTART:20121125T140000
DTEND:20121125T160000
LOCATION:Akademiestr. 2, vor dem Eingang des Altbaus der Akademie der Bildenden Künste
ORGANIZER:Münchner Schatzsuche
END:VEVENT
END:VCALENDAR