BEGIN:VCALENDAR
VERSION:2.0
PRODID:-//Stadtgeschichte München//DE
CALSCALE:GREGORIAN
BEGIN:VEVENT
UID:3425@stadtgeschichte-muenchen.de
SUMMARY:Von Ignaz Günther bis Josef Welling
DESCRIPTION:&lt;p&gt; Eine Führung durch das Innenstadtklinikum und seine kunstreichen Kirchen mit&amp;nbsp;adventlicher Musik, musiziert von Michael Weiser (Orgel) und Anette Spieldiener (Mezzosopran).&amp;nbsp;&lt;/p&gt;
DTSTART:20121201T140000
DTEND:20121201T000000
LOCATION:Sendlinger Tor
ORGANIZER:Münchner Schatzsuche
END:VEVENT
END:VCALENDAR