BEGIN:VCALENDAR
VERSION:2.0
PRODID:-//Stadtgeschichte München//DE
CALSCALE:GREGORIAN
BEGIN:VEVENT
UID:3428@stadtgeschichte-muenchen.de
SUMMARY:Glamour, Stars &amp; Showbusiness
DESCRIPTION:&lt;p&gt; &amp;nbsp;&lt;/p&gt; &lt;p style=&quot;margin: 0px 0px 1em; padding: 0px; line-height: 1.5em; color: rgb(68, 68, 68); font-family: &#039;Trebuchet MS&#039;, Verdana, Helvetica, Arial, sans-serif;&quot;&gt; Führung durch die aktuelle Ausstellung im Münchner Theatermuseum&lt;/p&gt; &lt;div style=&quot;margin: 0px; padding: 0px; color: rgb(68, 68, 68); font-family: &#039;Trebuchet MS&#039;, Verdana, Helvetica, Arial, sans-serif;&quot;&gt; Anmeldung über www.vhs-nord.de oder Telefon 089 / 5505170, aber auch&amp;nbsp;spontane Gäste sind herzlich willkommen!&amp;nbsp;&lt;/div&gt;
DTSTART:20121216T133000
DTEND:20121216T000000
LOCATION:Galeriestr. 4a
ORGANIZER:Münchner Schatzsuche
END:VEVENT
END:VCALENDAR