BEGIN:VCALENDAR
VERSION:2.0
PRODID:-//Stadtgeschichte München//DE
CALSCALE:GREGORIAN
BEGIN:VEVENT
UID:3438@stadtgeschichte-muenchen.de
SUMMARY:„Fatschenkindl &amp;   Frauentragen&quot;
DESCRIPTION:&lt;p&gt; &amp;nbsp;&lt;/p&gt; &lt;div&gt; &amp;nbsp;&lt;/div&gt;
DTSTART:20121202T160000
DTEND:20121202T000000
LOCATION:Marienplatz, Mariensäule. 
ORGANIZER:Münchner Schatzsuche
END:VEVENT
END:VCALENDAR