BEGIN:VCALENDAR
VERSION:2.0
PRODID:-//Stadtgeschichte München//DE
CALSCALE:GREGORIAN
BEGIN:VEVENT
UID:3477@stadtgeschichte-muenchen.de
SUMMARY:STREET-ART-SAFARI
DESCRIPTION:Münchens Street-Art-Szene ist cool und kreativ. Also kommt mit zu einigen der schönsten Graffitis und Stencils. ZurTeilnahme bitte ein eigenes Fahrrad mitbringen. Diese Safari entfällt bei starkem Regen ... die Tour endet an der Tumblingerstraße
DTSTART:20130509T100000
DTEND:20130509T123000
LOCATION:unterhalb des Friedensengels an der Prinzregentenbrücke vor der Â»FrankenÂ«-Statue
ORGANIZER:München-Safaris
END:VEVENT
END:VCALENDAR