BEGIN:VCALENDAR
VERSION:2.0
PRODID:-//Stadtgeschichte München//DE
CALSCALE:GREGORIAN
BEGIN:VEVENT
UID:366@stadtgeschichte-muenchen.de
SUMMARY:Die Abwasserkanäle in Münchens Untergrund
DESCRIPTION:&lt;p&gt;Seit dem Mittelalter ist Hygiene die wichtigste Aufgabe der Stadtentw&amp;auml;sserung und seit &amp;uuml;ber 100 Jahren werden unter den Stra&amp;szlig;en der Stadt Kan&amp;auml;le gebaut und unterhalten. Heute durchqueren bereits 2434 km Kan&amp;auml;le den &amp;bdquo;Bauch&amp;quot; M&amp;uuml;nchens. Grund genug, sich auf einer zweiteiligen Besichtigungstour Details zeigen und erkl&amp;auml;ren zu lassen. Was macht das zust&amp;auml;ndige st&amp;auml;dtische Betreuungspersonal dort im Untergrund f&amp;uuml;r das &amp;bdquo;Wohl&amp;quot; der M&amp;uuml;nchner B&amp;uuml;rger? 10 Uhr Besichtigung eines Kanals, ca. 11 Uhr Besichtigung des Regenr&amp;uuml;ckhaltebeckens am Hirschgarten. Begleitung: Benjamin Tax, M&amp;uuml;nchner Stadtentw&amp;auml;sserung. Wir bitten um Verst&amp;auml;ndnis, dass bei starkem Unwetter (Platzregen, Gewitter) die F&amp;uuml;hrung aus Sicherheitsgr&amp;uuml;nden nicht stattfinden kann.&lt;/p&gt;
DTSTART:20110527T093000
DTEND:20110527T120000
LOCATION:Waisenhausstraße/Ecke Klugstraße 
ORGANIZER:DGB-Bildungswerk Bayern e.V. Region München
END:VEVENT
END:VCALENDAR