BEGIN:VCALENDAR
VERSION:2.0
PRODID:-//Stadtgeschichte München//DE
CALSCALE:GREGORIAN
BEGIN:VEVENT
UID:3674@stadtgeschichte-muenchen.de
SUMMARY:Verbotene Schriftsteller
DESCRIPTION:&lt;p&gt; &amp;nbsp;&lt;/p&gt; &lt;div&gt; Es ist ein merkwürdiges Gefühl, ein verbotener Schriftsteller zu sein und seine Bücher nie mehr in den Regalen der Buchläden zu sehen ...&quot; Diese betroffenen Worte zur Bücherverbrennung vom 10. Mai 1933 stammen von Erich Kästner. Noch andere Schriftsteller, die wie er zeitweise in unserer Stadt lebten, teilten sein Schicksal: Ihre Werke gingen in der NS-Zeit in Flammen auf.&lt;/div&gt; &lt;div&gt; &amp;nbsp;&lt;/div&gt; &lt;div&gt; Unser literarischer Spaziergang führt uns über die Staatsbibliothek, eine Wirkstätte Lion Feuchtwangers, zur Universität, an der Ödb&#039;n von Hor-vath studierte. Weiter geht es zum einstigen Wohnhaus Heinrich Manns in der Leopoldstraße und zu Erich Kästners Domizil in der Fuchsstraße. An jeder Station wird Halt gemacht, um über die Münchner Jahre der Schriftsteller zu berichten und aus ihren Werken zu lesen.&lt;/div&gt;
DTSTART:20130505T110000
DTEND:20130505T130000
LOCATION: Feldherrnhalle, Odeonsplatz
ORGANIZER:DGB-Bildungswerk Bayern e.V. Region München
END:VEVENT
END:VCALENDAR