BEGIN:VCALENDAR
VERSION:2.0
PRODID:-//Stadtgeschichte München//DE
CALSCALE:GREGORIAN
BEGIN:VEVENT
UID:368@stadtgeschichte-muenchen.de
SUMMARY:Museum für Abgüsse Klasischer Bildwerke
DESCRIPTION:&lt;p&gt;M&amp;uuml;nchen kann nicht alles haben - jedenfalls nicht im Original. Das Museum f&amp;uuml;r Abg&amp;uuml;sse entstand als Lehrsammlung f&amp;uuml;r die Studierenden der Fachrichtung der klassischen Arch&amp;auml;ologie der Ludwig-Maximilians-Universit&amp;auml;t. Es zeigt originalgetreu abgeformte Skulpturen der griechischen und r&amp;ouml;mischen Antike aus &amp;uuml;ber 12 Jahrhunderten, deren Originale sich in den gro&amp;szlig;en Museen der Welt befinden. Der Schwerpunkt der Sammlung liegt auf den Meisterwerken der hellenistischen Plastik seit der Zeit Alexander des Gro&amp;szlig;en und der r&amp;ouml;mischen Portr&amp;auml;tkunst von der sp&amp;auml;ten Republik bis zur Sp&amp;auml;tantike. Als H&amp;ouml;hepunkt erleben wir live wie ein Abguss aus Gips entsteht.&lt;/p&gt;
DTSTART:20110407T140000
DTEND:20110407T160000
LOCATION:Museumseingang, Meiserstr. 10
ORGANIZER:DGB-Bildungswerk Bayern e.V. Region München
END:VEVENT
END:VCALENDAR