BEGIN:VCALENDAR
VERSION:2.0
PRODID:-//Stadtgeschichte München//DE
CALSCALE:GREGORIAN
BEGIN:VEVENT
UID:3845@stadtgeschichte-muenchen.de
SUMMARY:Maxvorstadt
DESCRIPTION:
DTSTART:20130614T170000
DTEND:20130614T190000
LOCATION:Kirche St. Joseph, Seiteneingang Josephstraße
ORGANIZER:STATTreisen München e.V.
END:VEVENT
END:VCALENDAR