BEGIN:VCALENDAR
VERSION:2.0
PRODID:-//Stadtgeschichte München//DE
CALSCALE:GREGORIAN
BEGIN:VEVENT
UID:3873@stadtgeschichte-muenchen.de
SUMMARY:Türen, Tore, Monumente - unser architektonisches Erbe
DESCRIPTION:&lt;p&gt; An vielen Toren und Monumenten geht man achtlos vorbei. Einmal weil sie uns längst nicht mehr bewusst auffallen, zum anderen, weil wir nicht genau wissen, was sie bedeuten. Wir fragen nach: Warum verschließt diese Kugel das einsame Tor? Was bedeuten die vier Trophäen auf dem Hofgartentor? Wohin führte diese Tür eigentlich?&lt;/p&gt; &lt;p&gt; Vielleicht werden Sie nach dieser Führung manches Denkmal, Bauwerk und manche historische Figur mit anderen Augen betrachten!&lt;/p&gt;
DTSTART:20130505T110000
DTEND:20130505T130000
LOCATION:Feldherrnhalle Odeonsplatz
ORGANIZER:MVHS München Mitte   
END:VEVENT
END:VCALENDAR