BEGIN:VCALENDAR
VERSION:2.0
PRODID:-//Stadtgeschichte München//DE
CALSCALE:GREGORIAN
BEGIN:VEVENT
UID:3892@stadtgeschichte-muenchen.de
SUMMARY:Durch die „Frühlingsanlagen&quot;
DESCRIPTION:&lt;p&gt; Wir starten am Gärtnerplatz, einem Beispiel für die gärtnerischen Gestaltungsprinzipien von Schmuckplätzen früherer Zeit. Dann folgen wir den Spuren der Münchner Stadterweiteru&#039;ng auf das östliche Isarufer und durchwandern die ehemaligen â€žFrühlingsanlagen&quot; - angelegt im Stil englischer Landschaftsparks. Den Abschluss bildet der kleine Inselpark der Vater-Rhein-Anlage - ein typisches Gestaltungsbeispiel der 1930er Jahre - eine Bereicherung der dortigen Isarlandschaft.&lt;/p&gt;
DTSTART:20130724T170000
DTEND:20130724T190000
LOCATION:Gärtnerplatz (Büste Leo von Klenze vor dem Theater) 
ORGANIZER:MVHS München Mitte   
END:VEVENT
END:VCALENDAR