BEGIN:VCALENDAR
VERSION:2.0
PRODID:-//Stadtgeschichte München//DE
CALSCALE:GREGORIAN
BEGIN:VEVENT
UID:3906@stadtgeschichte-muenchen.de
SUMMARY:Zwischen Moscheen und Basaren
DESCRIPTION:&lt;p&gt; Unweit des Stadtzentrums haben sich Einwanderer aus der Türkei, aus Persien und der arabischen Welt seit den 90er Jahren ihre eigene Geschäfts- und Lebenswelt geschaffen. Fast alle bekennen sich zum Islam, den sie in den ca. 30 Moscheen vor Ort praktizieren. Auf dem Weg durch enge Gassen, dichtbevölkerte Passagen und triste Hinterhöfe gewinnen Sie Einblicke in ein weitgehend unbekanntes Stadtviertel, in dem Globalisierung nicht diskutiert, sondern gelebt wird.&lt;/p&gt;
DTSTART:20130626T180000
DTEND:20130626T200000
LOCATION:Münchner Hauptbahnhof, Gleis 11 -  Eingang Bahnhofsmission 
ORGANIZER:MVHS München Mitte   
END:VEVENT
END:VCALENDAR