BEGIN:VCALENDAR
VERSION:2.0
PRODID:-//Stadtgeschichte München//DE
CALSCALE:GREGORIAN
BEGIN:VEVENT
UID:3909@stadtgeschichte-muenchen.de
SUMMARY:Von der Bavaria zur Olympia
DESCRIPTION:&lt;p&gt; &amp;nbsp;&lt;/p&gt; &lt;p&gt; Bei dieser Radtour werden wir Frauen-Denkmäler besuchen und München aus einem weiblichen Blickwinkel betrachten. Wir starten bei der größten, teuersten und schwersten Dame Bayerns, der Bavaria, und besuchen die Frauen, die den Sprung in die Ruhmeshalle geschafft haben. Bis wir die Olympia Triumphans im Olympiapark erreichen, erfahren wir mehr über drei Nomen, eine Amazone und die Stiftungsgründerin Mathilde Jörres.&lt;/p&gt; &lt;p&gt; Streckenlänge: ca. 8 km.&lt;/p&gt; &lt;p&gt; Bitte bringen Sie Ihr eigenes Fahrrad mit.&lt;/p&gt; &lt;p&gt; Ersatztermin bei Regen: 23.6.2013&lt;/p&gt;
DTSTART:20130616T110000
DTEND:20130616T133000
LOCATION:
ORGANIZER:MVHS München Mitte   
END:VEVENT
END:VCALENDAR