BEGIN:VCALENDAR
VERSION:2.0
PRODID:-//Stadtgeschichte München//DE
CALSCALE:GREGORIAN
BEGIN:VEVENT
UID:391@stadtgeschichte-muenchen.de
SUMMARY:Mehr Schein als Sein
DESCRIPTION:
DTSTART:20110508T140000
DTEND:20110508T000000
LOCATION:Kasse Neues Schloss Schleißheim
ORGANIZER:Bayerische Schlösserverwaltung
END:VEVENT
END:VCALENDAR