BEGIN:VCALENDAR
VERSION:2.0
PRODID:-//Stadtgeschichte München//DE
CALSCALE:GREGORIAN
BEGIN:VEVENT
UID:3916@stadtgeschichte-muenchen.de
SUMMARY:Die Mayer&#039;sche Hofkunstanstalt
DESCRIPTION:&lt;p&gt; 1847 gründete Josef Gabriel Mayer eine â€žKunstanstalt für kirchliche Arbeiten&quot;. Ab etwa 1862 wird mit der Glasmalerei begonnen, später kommt eine Mosaikabteilung dazu. In der Tradition der mittelalterlichen Bauhütten entwickelt sich eine Künstlerwerkstätte, in der Architekten, Professoren und Künstler Arbeiten von Weltgeltung hervorbringen. Heute schmücken sich unzählige Kirchen, Museen, U-Bahnhöfe und Gebäude in aller Welt mit Glasflächen und Mosaiken aus München. Bei dieser Führung haben Sie Gelegenheit, einen Blick in diese Werkstätten zu werfen.&lt;/p&gt;
DTSTART:20130605T140000
DTEND:20130605T153000
LOCATION:Treffpunkt: Seidlstr. 25, Ausstellungsraum 2. Stock 
ORGANIZER:MVHS München Mitte   
END:VEVENT
END:VCALENDAR