BEGIN:VCALENDAR
VERSION:2.0
PRODID:-//Stadtgeschichte München//DE
CALSCALE:GREGORIAN
BEGIN:VEVENT
UID:3917@stadtgeschichte-muenchen.de
SUMMARY:Zu Gast beim Bayerischen Rundfunk
DESCRIPTION:Der Bayerische Rundfunk lädt zu einer Führung ins Funkhaus ein. Zu Beginn erhalten Sie Informationen zur Geschichte, Organisation und zu den Programmangeboten des BR und der ARD. Sie besichtigen das News Center, die Musik- und Hörspielstudios und verschiedene Sendestudios. 365 Tage im Jahr sind unzählige Korrespondenten, Radiojournalisten, Redakteure, Moderatoren, Techniker und Handwerker im Einsatz. Wenn Sie einigen von ihnen über die Schulter schauen wollen, haben Sie dazu Gelegenheit.
DTSTART:20130404T170000
DTEND:20130404T183000
LOCATION:Treffpunkt: BR-Shop â€¢ Arnulfstr. 42/Ecke Hopfenstr.
ORGANIZER:MVHS München Mitte   
END:VEVENT
END:VCALENDAR