BEGIN:VCALENDAR
VERSION:2.0
PRODID:-//Stadtgeschichte München//DE
CALSCALE:GREGORIAN
BEGIN:VEVENT
UID:3923@stadtgeschichte-muenchen.de
SUMMARY:Der Englische Garten in München
DESCRIPTION:Führung für türkische und griechische Frauen in Kooperation mit der Fraueninitiative Milbertshofen e.V. Der Englische Garten, eine der größten innerstädtischen Parkanlagen der Welt, ist künstlerisch von hoher Qualität und sozialgeschichtlich als der erste Volkspark auf dem Kontinent von großer Bedeutung. Mit großzügigen Gartenräumen, vielfältigen Sichtbeziehungen und abwechslungsreicher Bepflanzung ist der ab 1789 angelegte Englische Garten ein Musterbeispiel für den klassischen Landschaftsgarten.
DTSTART:20130616T110000
DTEND:20130616T130000
LOCATION: Englischer Garten, Eingang zum Chinesischen Turm
ORGANIZER:MVHS München Mitte   
END:VEVENT
END:VCALENDAR