BEGIN:VCALENDAR
VERSION:2.0
PRODID:-//Stadtgeschichte München//DE
CALSCALE:GREGORIAN
BEGIN:VEVENT
UID:3924@stadtgeschichte-muenchen.de
SUMMARY:Die russisch-orthodoxe Kirche Hl. Erzengel Michael
DESCRIPTION:&lt;p&gt; Die russisch-orthodoxe Gemeinde wurde ursprünglich 1945 in einem Flüchtlingslager gegründet. Als etwa 300 russische Flüchtlinge Anfang der 1950er Jahre in die neugebaute Siedlung Ludwigsfeld am nördlichen Münchner Stadtrand einzogen, zog auch die kleine Holzkirche des Hl. Erzengels Michael samt Glockenturm mit. 1965 konnte der heutige Kirchenbau eingeweiht werden - der einzige Neubau einer russisch-orthodoxen Kirche in Bayern nach dem 2. Weltkrieg. Den Kern der Gemeinde bilden bis heute die ersten Bewohner/innen Ludwigsfelds und deren Nachkommen.&lt;/p&gt;
DTSTART:20130907T154500
DTEND:20130907T164500
LOCATION:Achatstr. 14 
ORGANIZER:MVHS München Nord
END:VEVENT
END:VCALENDAR